{"text_format":"1","workbook":"xlsx","n_sheets":1,"sheets":["Sorted Reduced FINAL"],"not_rendered":{"charts":0,"images":0,"macros":0,"external_links":1,"defined_names":0,"comments":0,"pivot_tables":0},"unopened":[],"bounds":{"document_bytes":16777216,"sheet_cells":100000,"rows_first":2000,"rows_last":500,"rows_between":2000,"halvings":0,"cell_chars":16384,"cell_head_chars":4096},"cells_cut":0,"cells_raw":0,"read":"whole","date_system":"1900"}

{"sheet":"Sorted Reduced FINAL","index":0,"n_rows":23,"n_cols":15,"rows_kept":23,"cut":false,"hidden":false,"merged":[]}
["proj_id","pi","kst","GPU","req_nodeh","req_TB","prc_Q1","prc_Q2","prc_Q3","prc_Q4","nh_Q1","nh_Q2","nh_Q3","nh_Q4","Email Address"]
["psi","Caubet Serrabou Marc",7905,0,{"$f":"10000+2250","v":12250},9,0.25,0.25,0.25,0.25,{"$f":"E2*G2","v":3062.5},{"$f":"E2*H2","v":3062.5},{"$f":"E2*I2","v":3062.5},{"$f":"E2*J2","v":3062.5},"marc.caubet@psi.ch"]
["psi01","Krack Matthias",7302,0,{"$f":"'[1]Sorted Original'!E3/2+1000","v":81000},11,0.25,0.25,0.25,0.25,{"$f":"E3*G3","v":20250},{"$f":"E3*H3","v":20250},{"$f":"E3*I3","v":20250},{"$f":"E3*J3","v":20250},"matthias.krack@psi.ch"]
["psi02","Clifford Ivor David",4100,0,{"$f":"'[1]Sorted Original'!E4/2+1000","v":51000},6,0.25,0.25,0.25,0.25,{"$f":"E4*G4","v":12750},{"$f":"E4*H4","v":12750},{"$f":"E4*I4","v":12750},{"$f":"E4*J4","v":12750},"ivor.clifford@psi.ch"]
["psi03","Mantzaras Ioannis",7103,1,{"$f":"'[1]Sorted Original'!E5/2+1000","v":11000},2,0.3,0.25,0.25,0.2,{"$f":"E5*G5","v":3300},{"$f":"E5*H5","v":2750},{"$f":"E5*I5","v":2750},{"$f":"E5*J5","v":2200},"ioannis.mantzaras@psi.ch"]
["psi04","Deupi i Corral Xavier",7202,1,{"$f":"'[1]Sorted Original'!E6/2+1000","v":101000},10,0.35,0.35,0.2,0.1,{"$f":"E6*G6","v":35350},{"$f":"E6*H6","v":35350},{"$f":"E6*I6","v":20200},{"$f":"E6*J6","v":10100},"xavier.deupi@psi.ch"]
["psi05","Sato Yohei",7103,0,{"$f":"'[1]Sorted Original'!E7/2+1000","v":16000},2,0.17,0.17,0.33,0.33,{"$f":"E7*G7","v":2720},{"$f":"E7*H7","v":2720},{"$f":"E7*I7","v":5280},{"$f":"E7*J7","v":5280},"yohei.sato@psi.ch"]
["psi06","Jung Thomas Andreas",6215,0,{"$f":"'[1]Sorted Original'!E8/2+1000","v":51000},2,0.2,0.3,0.25,0.25,{"$f":"E8*G8","v":10200},{"$f":"E8*H8","v":15300},{"$f":"E8*I8","v":12750},{"$f":"E8*J8","v":12750},"thomas.jung@psi.ch"]
["psi07","Adelmann Andreas",7100,0,{"$f":"'[1]Sorted Original'!E9/2+1000","v":26000},10,0.25,0.25,0.25,0.25,{"$f":"E9*G9","v":6500},{"$f":"E9*H9","v":6500},{"$f":"E9*I9","v":6500},{"$f":"E9*J9","v":6500},"andreas.adelmann@psi.ch"]
["psi08","Schüler Michael",7300,0,{"$f":"'[1]Sorted Original'!E10/2","v":15000},2,0,0.25,0.5,0.25,{"$f":"E10*G10","v":0},{"$f":"E10*H10","v":3750},{"$f":"E10*I10","v":7500},{"$f":"E10*J10","v":3750},"michael.schueler@psi.ch"]
["psi09","Chen Ying",5503,0,{"$f":"10000+1000","v":11000},10,0.25,0.25,0.25,0.25,{"$f":"E11*G11","v":2750},{"$f":"E11*H11","v":2750},{"$f":"E11*I11","v":2750},{"$f":"E11*J11","v":2750},"ying.chen@psi.ch"]
["psi10","Schüler Michael",7202,0,{"$f":"'[1]Sorted Original'!E12/2+1000","v":16000},1,0.25,0.25,0.25,0.25,{"$f":"E12*G12","v":4000},{"$f":"E12*H12","v":4000},{"$f":"E12*I12","v":4000},{"$f":"E12*J12","v":4000},"michael.schueler@psi.ch"]
["psi11","Perret Gregory",4100,0,{"$f":"'[1]Sorted Original'!E13/2","v":0},2,0.25,0.25,0.25,0.25,{"$f":"E13*G13","v":0},{"$f":"E13*H13","v":0},{"$f":"E13*I13","v":0},{"$f":"E13*J13","v":0},"gregory.perret@psi.ch"]
["psi13","Prasianakis Nikolaos",4403,0,{"$f":"10000","v":10000},2,0.25,0.25,0.25,0.25,{"$f":"E14*G14","v":2500},{"$f":"E14*H14","v":2500},{"$f":"E14*I14","v":2500},{"$f":"E14*J14","v":2500},"nikolaos.prasianakis@psi.ch"]
["psi14","Reiche Sven",8120,0,{"$f":"'[1]Sorted Original'!E15/2+1000","v":11000},2,0.25,0.25,0.25,0.25,{"$f":"E15*G15","v":2750},{"$f":"E15*H15","v":2750},{"$f":"E15*I15","v":2750},{"$f":"E15*J15","v":2750},"sven.reiche@psi.ch"]
["psi15","Marzari Nicola",7300,0,{"$f":"'[1]Sorted Original'!E16/2+1000","v":71000},5,0.25,0.25,0.25,0.25,{"$f":"E16*G16","v":17750},{"$f":"E16*H16","v":17750},{"$f":"E16*I16","v":17750},{"$f":"E16*J16","v":17750},"nicola.marzari@psi.ch"]
["psi16","Läuchli Herzig Andreas Martin",7201,0,{"$f":"'[1]Sorted Original'!E17/2+1000","v":11000},2,0.33,0.33,0.33,0,{"$f":"E17*G17","v":3630},{"$f":"E17*H17","v":3630},{"$f":"E17*I17","v":3630},{"$f":"E17*J17","v":0},"andreas.laeuchli@psi.ch"]
["psi17","Owusu Jerry Peprah",4400,1,{"$f":"'[1]Sorted Original'!E18/2+1000","v":16000},2,1,0,0,0,{"$f":"E18*G18","v":16000},{"$f":"E18*H18","v":0},{"$f":"E18*I18","v":0},{"$f":"E18*J18","v":0},"jerry-peprah.owusu@psi.ch"]
["psigpu","Caubet Serrabou Marc",7905,1,{"$f":"10000+2250","v":12250},0,0.25,0.25,0.25,0.25,{"$f":"E19*G19","v":3062.5},{"$f":"E19*H19","v":3062.5},{"$f":"E19*I19","v":3062.5},{"$f":"E19*J19","v":3062.5},"marc.caubet@psi.ch"]
["SUM REQ RESOURCES",null,null,null,{"$f":"SUM(E1:E19)","v":522500},{"$f":"SUM(F1:F19)","v":80},null,null,null,null,{"$f":"SUM(K1:K19)","v":146575},{"$f":"SUM(L1:L19)","v":138875},{"$f":"SUM(M1:M19)","v":127485},{"$f":"SUM(N1:N19)","v":109455}]
[]
[null,"Available resources per year",null,null,522499,80,null,null,null,null,{"$f":"$E22/4","v":130624.75},{"$f":"$E22/4","v":130624.75},{"$f":"$E22/4","v":130624.75},{"$f":"$E22/4","v":130624.75}]
[null,"Oversubscription factor",null,null,{"$f":"E20/E22","v":1.00000191387926},{"$f":"F20/F22","v":1},null,null,null,null,{"$f":"K20/K22","v":1.12210741073189},{"$f":"L20/L22","v":1.06315992949269},{"$f":"M20/M22","v":0.975963590360938},{"$f":"N20/N22","v":0.837934618056685}]